BEGIN:VCALENDAR
VERSION:2.0
PRODID:-//vaportrailvettes.org - ECPv6.15.20//NONSGML v1.0//EN
CALSCALE:GREGORIAN
METHOD:PUBLISH
X-WR-CALNAME:vaportrailvettes.org
X-ORIGINAL-URL:https://vaportrailvettes.org
X-WR-CALDESC:Events for vaportrailvettes.org
REFRESH-INTERVAL;VALUE=DURATION:PT1H
X-Robots-Tag:noindex
X-PUBLISHED-TTL:PT1H
BEGIN:VTIMEZONE
TZID:America/Los_Angeles
BEGIN:DAYLIGHT
TZOFFSETFROM:-0800
TZOFFSETTO:-0700
TZNAME:PDT
DTSTART:20250309T100000
END:DAYLIGHT
BEGIN:STANDARD
TZOFFSETFROM:-0700
TZOFFSETTO:-0800
TZNAME:PST
DTSTART:20251102T090000
END:STANDARD
BEGIN:DAYLIGHT
TZOFFSETFROM:-0800
TZOFFSETTO:-0700
TZNAME:PDT
DTSTART:20260308T100000
END:DAYLIGHT
BEGIN:STANDARD
TZOFFSETFROM:-0700
TZOFFSETTO:-0800
TZNAME:PST
DTSTART:20261101T090000
END:STANDARD
BEGIN:DAYLIGHT
TZOFFSETFROM:-0800
TZOFFSETTO:-0700
TZNAME:PDT
DTSTART:20270314T100000
END:DAYLIGHT
BEGIN:STANDARD
TZOFFSETFROM:-0700
TZOFFSETTO:-0800
TZNAME:PST
DTSTART:20271107T090000
END:STANDARD
END:VTIMEZONE
BEGIN:VEVENT
DTSTART;TZID=America/Los_Angeles:20260305T173000
DTEND;TZID=America/Los_Angeles:20260305T193000
DTSTAMP:20260423T141512
CREATED:20251220T184932Z
LAST-MODIFIED:20251220T184932Z
UID:24173-1772731800-1772739000@vaportrailvettes.org
SUMMARY:March\, 2026 Monthly Meeting
DESCRIPTION:
URL:https://vaportrailvettes.org/event/march-2026-monthly-meeting/
LOCATION:IHOP\, 202 Nicholson Ave\, Santa Maria\, CA\, 93455\, United States
ORGANIZER;CN="Clay Beck":MAILTO:CRB500@YAHOO.COM
END:VEVENT
BEGIN:VEVENT
DTSTART;TZID=America/Los_Angeles:20260307T080000
DTEND;TZID=America/Los_Angeles:20260307T170000
DTSTAMP:20260423T141512
CREATED:20260206T223323Z
LAST-MODIFIED:20260206T223323Z
UID:24249-1772870400-1772902800@vaportrailvettes.org
SUMMARY:March Meet drags at Bakersfield
DESCRIPTION:
URL:https://vaportrailvettes.org/event/march-meet-drags-at-bakersfield/
LOCATION:March Meet\, 33559 Famoso Rd.\, McFarland\, CA\, 93250\, United States
ORGANIZER;CN="Clay Beck":MAILTO:CRB500@YAHOO.COM
END:VEVENT
BEGIN:VEVENT
DTSTART;TZID=America/Los_Angeles:20260321T100000
DTEND;TZID=America/Los_Angeles:20260321T170000
DTSTAMP:20260423T141512
CREATED:20260206T223656Z
LAST-MODIFIED:20260206T223656Z
UID:24254-1774087200-1774112400@vaportrailvettes.org
SUMMARY:March 21st Drive and Dine
DESCRIPTION:
URL:https://vaportrailvettes.org/event/march-21st-drive-and-dine/
LOCATION:Charlies\, 185 Bell St.\, Los Alamos\, CA\, 93440
END:VEVENT
END:VCALENDAR