BEGIN:VCALENDAR
VERSION:2.0
PRODID:-//vaportrailvettes.org - ECPv6.15.20//NONSGML v1.0//EN
CALSCALE:GREGORIAN
METHOD:PUBLISH
X-WR-CALNAME:vaportrailvettes.org
X-ORIGINAL-URL:https://vaportrailvettes.org
X-WR-CALDESC:Events for vaportrailvettes.org
REFRESH-INTERVAL;VALUE=DURATION:PT1H
X-Robots-Tag:noindex
X-PUBLISHED-TTL:PT1H
BEGIN:VTIMEZONE
TZID:America/Los_Angeles
BEGIN:DAYLIGHT
TZOFFSETFROM:-0800
TZOFFSETTO:-0700
TZNAME:PDT
DTSTART:20230312T100000
END:DAYLIGHT
BEGIN:STANDARD
TZOFFSETFROM:-0700
TZOFFSETTO:-0800
TZNAME:PST
DTSTART:20231105T090000
END:STANDARD
BEGIN:DAYLIGHT
TZOFFSETFROM:-0800
TZOFFSETTO:-0700
TZNAME:PDT
DTSTART:20240310T100000
END:DAYLIGHT
BEGIN:STANDARD
TZOFFSETFROM:-0700
TZOFFSETTO:-0800
TZNAME:PST
DTSTART:20241103T090000
END:STANDARD
BEGIN:DAYLIGHT
TZOFFSETFROM:-0800
TZOFFSETTO:-0700
TZNAME:PDT
DTSTART:20250309T100000
END:DAYLIGHT
BEGIN:STANDARD
TZOFFSETFROM:-0700
TZOFFSETTO:-0800
TZNAME:PST
DTSTART:20251102T090000
END:STANDARD
END:VTIMEZONE
BEGIN:VEVENT
DTSTART;TZID=America/Los_Angeles:20240817T063000
DTEND;TZID=America/Los_Angeles:20240817T170000
DTSTAMP:20260424T191318
CREATED:20240109T165415Z
LAST-MODIFIED:20240109T165415Z
UID:22610-1723876200-1723914000@vaportrailvettes.org
SUMMARY:August 17th Autocross
DESCRIPTION:
URL:https://vaportrailvettes.org/event/august-17th-autocross/
LOCATION:Santa Maria Airport\, 4021 S Blosser Road\,\, Santa Maria\, CA\, 93455\, United States
ORGANIZER;CN="Clay Beck":MAILTO:CRB500@YAHOO.COM
END:VEVENT
BEGIN:VEVENT
DTSTART;TZID=America/Los_Angeles:20240821T100000
DTEND;TZID=America/Los_Angeles:20240821T170000
DTSTAMP:20260424T191318
CREATED:20240619T190742Z
LAST-MODIFIED:20240802T203822Z
UID:22632-1724234400-1724259600@vaportrailvettes.org
SUMMARY:August Drive and Dine
DESCRIPTION:
URL:https://vaportrailvettes.org/event/august-drive-and-dine/
LOCATION:CA
END:VEVENT
BEGIN:VEVENT
DTSTART;TZID=America/Los_Angeles:20240831T063000
DTEND;TZID=America/Los_Angeles:20240831T170000
DTSTAMP:20260424T191318
CREATED:20240831T213854Z
LAST-MODIFIED:20240831T213854Z
UID:23030-1725085800-1725123600@vaportrailvettes.org
SUMMARY:October 26th\, 2024 Autox
DESCRIPTION:
URL:https://vaportrailvettes.org/event/october-26th-2024-autox/
LOCATION:Santa Maria Airport\, 4021 S Blosser Road\,\, Santa Maria\, CA\, 93455\, United States
ORGANIZER;CN="Clay Beck":MAILTO:CRB500@YAHOO.COM
END:VEVENT
END:VCALENDAR