BEGIN:VCALENDAR
VERSION:2.0
PRODID:-//vaportrailvettes.org - ECPv6.15.20//NONSGML v1.0//EN
CALSCALE:GREGORIAN
METHOD:PUBLISH
X-WR-CALNAME:vaportrailvettes.org
X-ORIGINAL-URL:https://vaportrailvettes.org
X-WR-CALDESC:Events for vaportrailvettes.org
REFRESH-INTERVAL;VALUE=DURATION:PT1H
X-Robots-Tag:noindex
X-PUBLISHED-TTL:PT1H
BEGIN:VTIMEZONE
TZID:America/Los_Angeles
BEGIN:DAYLIGHT
TZOFFSETFROM:-0800
TZOFFSETTO:-0700
TZNAME:PDT
DTSTART:20200308T100000
END:DAYLIGHT
BEGIN:STANDARD
TZOFFSETFROM:-0700
TZOFFSETTO:-0800
TZNAME:PST
DTSTART:20201101T090000
END:STANDARD
BEGIN:DAYLIGHT
TZOFFSETFROM:-0800
TZOFFSETTO:-0700
TZNAME:PDT
DTSTART:20210314T100000
END:DAYLIGHT
BEGIN:STANDARD
TZOFFSETFROM:-0700
TZOFFSETTO:-0800
TZNAME:PST
DTSTART:20211107T090000
END:STANDARD
BEGIN:DAYLIGHT
TZOFFSETFROM:-0800
TZOFFSETTO:-0700
TZNAME:PDT
DTSTART:20220313T100000
END:DAYLIGHT
BEGIN:STANDARD
TZOFFSETFROM:-0700
TZOFFSETTO:-0800
TZNAME:PST
DTSTART:20221106T090000
END:STANDARD
END:VTIMEZONE
BEGIN:VEVENT
DTSTART;TZID=America/Los_Angeles:20210506T180000
DTEND;TZID=America/Los_Angeles:20210506T193000
DTSTAMP:20260425T091144
CREATED:20210505T173117Z
LAST-MODIFIED:20210505T173117Z
UID:19847-1620324000-1620329400@vaportrailvettes.org
SUMMARY:May Meeting
DESCRIPTION:
URL:https://vaportrailvettes.org/event/may-meeting/
LOCATION:IHOP\, 202 Nicholson Ave\, Santa Maria\, CA\, 93455\, United States
ORGANIZER;CN="Clay Beck":MAILTO:CRB500@YAHOO.COM
END:VEVENT
BEGIN:VEVENT
DTSTART;TZID=America/Los_Angeles:20210417T063000
DTEND;TZID=America/Los_Angeles:20210417T170000
DTSTAMP:20260425T091144
CREATED:20210202T235009Z
LAST-MODIFIED:20210402T181048Z
UID:19594-1618641000-1618678800@vaportrailvettes.org
SUMMARY:April 17\, 2021 Autocross
DESCRIPTION:Stefono’s Sapori D’Italia will be present for those who wish to purchase lunch.  The menu will be: \n#01. Famous Chicago Dog \nMustard\, Relish\, Onions\, Tomato’s\, Kosher Pickle\, and Sport  Peppers on Steamed Poppy Seed Bun. \n$3.95 \n#02. Al Capone Jumbo Dog (Spicy or Mild) \nThicker Dog with mustard\, relish\, onions\, tomato’s\, kosher pickle\, and sport peppers on a steamed poppy seed bun. \n$5.75 \n#03. Maxwell Street Style 12″ Polish \nFoot Long Char-Grilled in the traditional way it was done on historic Maxwell Street Chicago and  prepared with mustard\, Sport Peppers and grilled onions. \n$5.75 \n#04. Mike Ditka Jumbo Spicy Polish \nChar-Grilled in the traditional way it was done on historic Maxwell Street Chicago and prepared with mustard\, Sport Peppers and grilled onions. \n$5.75 \n#05. Cheese Dog \nHot Dog\, Cheese. \n$3.25 \n#06. Chili Cheese Dog \nServed With Onions \n$4.25 \n#07. Jumbo Spicy or Regular Chili Cheese Dog \nServed With Unions \n$5.75 \n#08. Plain Dog \nPlain Hot Dog \n$2.75 \n#09. John Gotti Jumbo Spicy  \nBrown Mustard & Hot Italian Peppers \n$5.75 \n#10. Original Style Polish Dog \nPolish Dog \n$4.75
URL:https://vaportrailvettes.org/event/april-17-2021-autocross/
LOCATION:Santa Maria Airport\, 4021 S Blosser Road\,\, Santa Maria\, CA\, 93455\, United States
ORGANIZER;CN="Clay Beck":MAILTO:CRB500@YAHOO.COM
END:VEVENT
BEGIN:VEVENT
DTSTART;TZID=America/Los_Angeles:20210313T063000
DTEND;TZID=America/Los_Angeles:20210313T170000
DTSTAMP:20260425T091144
CREATED:20210202T234408Z
LAST-MODIFIED:20210202T234857Z
UID:19587-1615617000-1615654800@vaportrailvettes.org
SUMMARY:March 13\, 2021 Autocross
DESCRIPTION:
URL:https://vaportrailvettes.org/event/first-autocross/
LOCATION:Santa Maria Airport\, 4021 S Blosser Road\,\, Santa Maria\, CA\, 93455\, United States
ORGANIZER;CN="Clay Beck":MAILTO:CRB500@YAHOO.COM
END:VEVENT
BEGIN:VEVENT
DTSTART;TZID=America/Los_Angeles:20210304T183000
DTEND;TZID=America/Los_Angeles:20210304T193000
DTSTAMP:20260425T091144
CREATED:20210202T235610Z
LAST-MODIFIED:20210202T235610Z
UID:19606-1614882600-1614886200@vaportrailvettes.org
SUMMARY:March 4 2021 Club Meeting
DESCRIPTION:
URL:https://vaportrailvettes.org/event/march-4-2021-club-meeting/
LOCATION:CA
ORGANIZER;CN="Clay Beck":MAILTO:CRB500@YAHOO.COM
END:VEVENT
END:VCALENDAR