BEGIN:VCALENDAR
VERSION:2.0
PRODID:-//vaportrailvettes.org - ECPv6.15.20//NONSGML v1.0//EN
CALSCALE:GREGORIAN
METHOD:PUBLISH
X-WR-CALNAME:vaportrailvettes.org
X-ORIGINAL-URL:https://vaportrailvettes.org
X-WR-CALDESC:Events for vaportrailvettes.org
REFRESH-INTERVAL;VALUE=DURATION:PT1H
X-Robots-Tag:noindex
X-PUBLISHED-TTL:PT1H
BEGIN:VTIMEZONE
TZID:America/Los_Angeles
BEGIN:DAYLIGHT
TZOFFSETFROM:-0800
TZOFFSETTO:-0700
TZNAME:PDT
DTSTART:20200308T100000
END:DAYLIGHT
BEGIN:STANDARD
TZOFFSETFROM:-0700
TZOFFSETTO:-0800
TZNAME:PST
DTSTART:20201101T090000
END:STANDARD
BEGIN:DAYLIGHT
TZOFFSETFROM:-0800
TZOFFSETTO:-0700
TZNAME:PDT
DTSTART:20210314T100000
END:DAYLIGHT
BEGIN:STANDARD
TZOFFSETFROM:-0700
TZOFFSETTO:-0800
TZNAME:PST
DTSTART:20211107T090000
END:STANDARD
BEGIN:DAYLIGHT
TZOFFSETFROM:-0800
TZOFFSETTO:-0700
TZNAME:PDT
DTSTART:20220313T100000
END:DAYLIGHT
BEGIN:STANDARD
TZOFFSETFROM:-0700
TZOFFSETTO:-0800
TZNAME:PST
DTSTART:20221106T090000
END:STANDARD
BEGIN:DAYLIGHT
TZOFFSETFROM:-0800
TZOFFSETTO:-0700
TZNAME:PDT
DTSTART:20230312T100000
END:DAYLIGHT
BEGIN:STANDARD
TZOFFSETFROM:-0700
TZOFFSETTO:-0800
TZNAME:PST
DTSTART:20231105T090000
END:STANDARD
BEGIN:DAYLIGHT
TZOFFSETFROM:-0800
TZOFFSETTO:-0700
TZNAME:PDT
DTSTART:20240310T100000
END:DAYLIGHT
BEGIN:STANDARD
TZOFFSETFROM:-0700
TZOFFSETTO:-0800
TZNAME:PST
DTSTART:20241103T090000
END:STANDARD
END:VTIMEZONE
BEGIN:VEVENT
DTSTART;TZID=America/Los_Angeles:20230907T173000
DTEND;TZID=America/Los_Angeles:20230907T193000
DTSTAMP:20260425T083231
CREATED:20230719T202922Z
LAST-MODIFIED:20230719T202922Z
UID:22009-1694107800-1694115000@vaportrailvettes.org
SUMMARY:September 2023 Monthly Meeting
DESCRIPTION:
URL:https://vaportrailvettes.org/event/september-2023-monthly-meeting/
LOCATION:IHOP\, 202 Nicholson Ave\, Santa Maria\, CA\, 93455\, United States
ORGANIZER;CN="Clay Beck":MAILTO:CRB500@YAHOO.COM
END:VEVENT
BEGIN:VEVENT
DTSTART;TZID=America/Los_Angeles:20230803T173000
DTEND;TZID=America/Los_Angeles:20230803T193000
DTSTAMP:20260425T083231
CREATED:20230719T202833Z
LAST-MODIFIED:20230719T202833Z
UID:22006-1691083800-1691091000@vaportrailvettes.org
SUMMARY:August 2023 Monthly Meeting
DESCRIPTION:
URL:https://vaportrailvettes.org/event/august-2023-monthly-meeting/
LOCATION:IHOP\, 202 Nicholson Ave\, Santa Maria\, CA\, 93455\, United States
ORGANIZER;CN="Clay Beck":MAILTO:CRB500@YAHOO.COM
END:VEVENT
BEGIN:VEVENT
DTSTART;TZID=America/Los_Angeles:20230729T063000
DTEND;TZID=America/Los_Angeles:20230729T170000
DTSTAMP:20260425T083231
CREATED:20230719T202714Z
LAST-MODIFIED:20230719T202714Z
UID:22002-1690612200-1690650000@vaportrailvettes.org
SUMMARY:July 2023 Autocross
DESCRIPTION:
URL:https://vaportrailvettes.org/event/july-2023-autocross/
LOCATION:Santa Maria Airport\, 4021 S Blosser Road\,\, Santa Maria\, CA\, 93455\, United States
ORGANIZER;CN="Clay Beck":MAILTO:CRB500@YAHOO.COM
END:VEVENT
BEGIN:VEVENT
DTSTART;TZID=America/Los_Angeles:20221014T130000
DTEND;TZID=America/Los_Angeles:20221015T220000
DTSTAMP:20260425T083231
CREATED:20220408T190405Z
LAST-MODIFIED:20220408T190405Z
UID:20696-1665752400-1665871200@vaportrailvettes.org
SUMMARY:2022 Annual Blast
DESCRIPTION:
URL:https://vaportrailvettes.org/event/2022-annual-blast/
LOCATION:Santa Maria Inn\, 801 S Broadway\, Santa Maria\, CA\, 93454\, United States
END:VEVENT
BEGIN:VEVENT
DTSTART;TZID=America/Los_Angeles:20221006T173000
DTEND;TZID=America/Los_Angeles:20221006T193000
DTSTAMP:20260425T083231
CREATED:20220924T194548Z
LAST-MODIFIED:20220924T194548Z
UID:21374-1665077400-1665084600@vaportrailvettes.org
SUMMARY:October 2022 Monthly Meeting
DESCRIPTION:
URL:https://vaportrailvettes.org/event/october-2022-monthly-meeting/
LOCATION:Giavnni’s Pizza\, 1108 E Clark Ave\, Santa Maria\, CA\, 93455\, United States
ORGANIZER;CN="Clay Beck":MAILTO:CRB500@YAHOO.COM
END:VEVENT
BEGIN:VEVENT
DTSTART;TZID=America/Los_Angeles:20220901T183000
DTEND;TZID=America/Los_Angeles:20220901T193000
DTSTAMP:20260425T083231
CREATED:20220827T204907Z
LAST-MODIFIED:20220827T204907Z
UID:21273-1662057000-1662060600@vaportrailvettes.org
SUMMARY:September 2022 Monthly Meeting
DESCRIPTION:
URL:https://vaportrailvettes.org/event/september-2022-monthly-meeting/
LOCATION:IHOP\, 202 Nicholson Ave\, Santa Maria\, CA\, 93455\, United States
ORGANIZER;CN="Clay Beck":MAILTO:CRB500@YAHOO.COM
END:VEVENT
BEGIN:VEVENT
DTSTART;TZID=America/Los_Angeles:20220806T063000
DTEND;TZID=America/Los_Angeles:20220806T170000
DTSTAMP:20260425T083231
CREATED:20211209T000704Z
LAST-MODIFIED:20220316T224816Z
UID:20494-1659767400-1659805200@vaportrailvettes.org
SUMMARY:Aug 6\, 2022 autocross
DESCRIPTION:
URL:https://vaportrailvettes.org/event/4th-autocross/
LOCATION:Santa Maria Airport\, 4021 S Blosser Road\,\, Santa Maria\, CA\, 93455\, United States
ORGANIZER;CN="Clay Beck":MAILTO:CRB500@YAHOO.COM
END:VEVENT
BEGIN:VEVENT
DTSTART;TZID=America/Los_Angeles:20220804T173000
DTEND;TZID=America/Los_Angeles:20220804T193000
DTSTAMP:20260425T083231
CREATED:20220730T193949Z
LAST-MODIFIED:20220730T193954Z
UID:21100-1659634200-1659641400@vaportrailvettes.org
SUMMARY:2022 August Meeting
DESCRIPTION:
URL:https://vaportrailvettes.org/event/2022-august-meeting/
LOCATION:IHOP\, 202 Nicholson Ave\, Santa Maria\, CA\, 93455\, United States
ORGANIZER;CN="Clay Beck":MAILTO:CRB500@YAHOO.COM
END:VEVENT
BEGIN:VEVENT
DTSTART;TZID=America/Los_Angeles:20220709T063000
DTEND;TZID=America/Los_Angeles:20220709T170000
DTSTAMP:20260425T083231
CREATED:20211209T000612Z
LAST-MODIFIED:20220316T224849Z
UID:20491-1657348200-1657386000@vaportrailvettes.org
SUMMARY:Aug 9\, 2022 autocross
DESCRIPTION:
URL:https://vaportrailvettes.org/event/3rd-autocross/
LOCATION:Santa Maria Airport\, 4021 S Blosser Road\,\, Santa Maria\, CA\, 93455\, United States
ORGANIZER;CN="Clay Beck":MAILTO:CRB500@YAHOO.COM
END:VEVENT
BEGIN:VEVENT
DTSTART;TZID=America/Los_Angeles:20220704T080000
DTEND;TZID=America/Los_Angeles:20220704T123000
DTSTAMP:20260425T083231
CREATED:20220618T170319Z
LAST-MODIFIED:20220618T170319Z
UID:20759-1656921600-1656937800@vaportrailvettes.org
SUMMARY:2022 Solvang 4th of July Parade
DESCRIPTION:
URL:https://vaportrailvettes.org/event/2022-solvang-4th-of-july-parade/
LOCATION:Solvang\, CA\, Solvang\, CA\, United States
END:VEVENT
BEGIN:VEVENT
DTSTART;TZID=America/Los_Angeles:20220702T140000
DTEND;TZID=America/Los_Angeles:20220702T170000
DTSTAMP:20260425T083231
CREATED:20220601T200237Z
LAST-MODIFIED:20220614T221630Z
UID:20745-1656770400-1656781200@vaportrailvettes.org
SUMMARY:July 4th Members Party
DESCRIPTION:
URL:https://vaportrailvettes.org/event/july-4th-members-party/
LOCATION:Paz/Haugen\, 119 Vista Del Mar\, Shell Beach\, CA\, 93449\, United States
END:VEVENT
BEGIN:VEVENT
DTSTART;TZID=America/Los_Angeles:20220625T063000
DTEND;TZID=America/Los_Angeles:20220625T170000
DTSTAMP:20260425T083231
CREATED:20211209T000514Z
LAST-MODIFIED:20220316T224920Z
UID:20488-1656138600-1656176400@vaportrailvettes.org
SUMMARY:June 25\, 2022 autocross
DESCRIPTION:
URL:https://vaportrailvettes.org/event/2nd-autocross/
LOCATION:Santa Maria Airport\, 4021 S Blosser Road\,\, Santa Maria\, CA\, 93455\, United States
ORGANIZER;CN="Clay Beck":MAILTO:CRB500@YAHOO.COM
END:VEVENT
BEGIN:VEVENT
DTSTART;TZID=America/Los_Angeles:20220602T173000
DTEND;TZID=America/Los_Angeles:20220602T193000
DTSTAMP:20260425T083231
CREATED:20220529T202424Z
LAST-MODIFIED:20220529T202449Z
UID:20725-1654191000-1654198200@vaportrailvettes.org
SUMMARY:June Meeting
DESCRIPTION:
URL:https://vaportrailvettes.org/event/june-meeting-2/
LOCATION:IHOP\, 202 Nicholson Ave\, Santa Maria\, CA\, 93455\, United States
ORGANIZER;CN="Hector Paz":MAILTO:hectorpaz@charter.net
END:VEVENT
BEGIN:VEVENT
DTSTART;TZID=America/Los_Angeles:20220505T173000
DTEND;TZID=America/Los_Angeles:20220505T193000
DTSTAMP:20260425T083231
CREATED:20220222T172256Z
LAST-MODIFIED:20220502T234012Z
UID:20667-1651771800-1651779000@vaportrailvettes.org
SUMMARY:May 2022 Meeting
DESCRIPTION:
URL:https://vaportrailvettes.org/event/may-2022-meeting/
LOCATION:Giavnni’s Pizza\, 1108 E Clark Ave\, Santa Maria\, CA\, 93455\, United States
ORGANIZER;CN="Holly Palmer":MAILTO:hpalmerrn@msn.com
END:VEVENT
BEGIN:VEVENT
DTSTART;TZID=America/Los_Angeles:20220430T063000
DTEND;TZID=America/Los_Angeles:20220430T170000
DTSTAMP:20260425T083231
CREATED:20211209T000355Z
LAST-MODIFIED:20220316T224954Z
UID:20484-1651300200-1651338000@vaportrailvettes.org
SUMMARY:April 30\, 2022 autocross
DESCRIPTION:
URL:https://vaportrailvettes.org/event/st-autocross/
LOCATION:Santa Maria Airport\, 4021 S Blosser Road\,\, Santa Maria\, CA\, 93455\, United States
ORGANIZER;CN="Clay Beck":MAILTO:CRB500@YAHOO.COM
END:VEVENT
BEGIN:VEVENT
DTSTART;TZID=America/Los_Angeles:20220407T173000
DTEND;TZID=America/Los_Angeles:20220407T193000
DTSTAMP:20260425T083231
CREATED:20220222T172201Z
LAST-MODIFIED:20220222T172201Z
UID:20664-1649352600-1649359800@vaportrailvettes.org
SUMMARY:April 2022 Meeting
DESCRIPTION:
URL:https://vaportrailvettes.org/event/april-2022-meeting/
LOCATION:CA
ORGANIZER;CN="Hector Paz":MAILTO:hectorpaz@charter.net
END:VEVENT
BEGIN:VEVENT
DTSTART;TZID=America/Los_Angeles:20220303T173000
DTEND;TZID=America/Los_Angeles:20220303T193000
DTSTAMP:20260425T083231
CREATED:20220222T171929Z
LAST-MODIFIED:20220222T171929Z
UID:20658-1646328600-1646335800@vaportrailvettes.org
SUMMARY:March 2022 Meeting
DESCRIPTION:
URL:https://vaportrailvettes.org/event/march-2022-meeting/
LOCATION:Pi-Whole Pizza at 330 W. Tefft Street\, Nipomo\, 330 W. Tefft Street\, Nipomo\, CA\, 93444\, United States
ORGANIZER;CN="Holly Palmer":MAILTO:hpalmerrn@msn.com
END:VEVENT
BEGIN:VEVENT
DTSTART;TZID=America/Los_Angeles:20211104T183000
DTEND;TZID=America/Los_Angeles:20211104T193000
DTSTAMP:20260425T083231
CREATED:20211019T160620Z
LAST-MODIFIED:20211101T221410Z
UID:20436-1636050600-1636054200@vaportrailvettes.org
SUMMARY:November 2021 Monthly meeting
DESCRIPTION:
URL:https://vaportrailvettes.org/event/november-monthly-meeting/
LOCATION:IHOP\, 202 Nicholson Ave\, Santa Maria\, CA\, 93455\, United States
ORGANIZER;CN="Holly Palmer":MAILTO:hpalmerrn@msn.com
END:VEVENT
BEGIN:VEVENT
DTSTART;TZID=America/Los_Angeles:20211023T103000
DTEND;TZID=America/Los_Angeles:20211023T130000
DTSTAMP:20260425T083231
CREATED:20211019T160934Z
LAST-MODIFIED:20211019T160934Z
UID:20439-1634985000-1634994000@vaportrailvettes.org
SUMMARY:October Drive and Dine
DESCRIPTION:
URL:https://vaportrailvettes.org/event/october-drive-and-dine/
LOCATION:Loading Chute Restaurant\, 6350 Webster Rd\, Creston\, CA\, 93432\, United States
ORGANIZER;CN="Holly Palmer":MAILTO:hpalmerrn@msn.com
END:VEVENT
BEGIN:VEVENT
DTSTART;TZID=America/Los_Angeles:20211007T183000
DTEND;TZID=America/Los_Angeles:20211007T193000
DTSTAMP:20260425T083231
CREATED:20210925T173151Z
LAST-MODIFIED:20210925T173151Z
UID:20232-1633631400-1633635000@vaportrailvettes.org
SUMMARY:October Monthly Meeting
DESCRIPTION:The October meeting will be at Giavnni’s Pizza.
URL:https://vaportrailvettes.org/event/october-monthly-meeting/
LOCATION:Giavnni’s Pizza\, 1108 E Clark Ave\, Santa Maria\, CA\, 93455\, United States
ORGANIZER;CN="Holly Palmer":MAILTO:hpalmerrn@msn.com
END:VEVENT
BEGIN:VEVENT
DTSTART;TZID=America/Los_Angeles:20210911T080000
DTEND;TZID=America/Los_Angeles:20210911T140000
DTSTAMP:20260425T083231
CREATED:20210903T173550Z
LAST-MODIFIED:20210903T173550Z
UID:20226-1631347200-1631368800@vaportrailvettes.org
SUMMARY:Flags in the Air
DESCRIPTION:20th anniversary of the 9/11 event.
URL:https://vaportrailvettes.org/event/flags-in-the-air/
LOCATION:Lompoc Airport\, 1801 N H Street\, Lompoc\, CA\, 93436\, United States
ORGANIZER;CN="Holly Palmer":MAILTO:hpalmerrn@msn.com
END:VEVENT
BEGIN:VEVENT
DTSTART;TZID=America/Los_Angeles:20210902T183000
DTEND;TZID=America/Los_Angeles:20210902T193000
DTSTAMP:20260425T083231
CREATED:20210729T165050Z
LAST-MODIFIED:20210828T170028Z
UID:20193-1630607400-1630611000@vaportrailvettes.org
SUMMARY:September Monthly Meeting
DESCRIPTION:
URL:https://vaportrailvettes.org/event/september-monthly-meeting/
LOCATION:IHOP\, 202 Nicholson Ave\, Santa Maria\, CA\, 93455\, United States
ORGANIZER;CN="Holly Palmer":MAILTO:hpalmerrn@msn.com
END:VEVENT
BEGIN:VEVENT
DTSTART;TZID=America/Los_Angeles:20210814T063000
DTEND;TZID=America/Los_Angeles:20210814T170000
DTSTAMP:20260425T083231
CREATED:20210202T235210Z
LAST-MODIFIED:20210202T235210Z
UID:19600-1628922600-1628960400@vaportrailvettes.org
SUMMARY:August 14\, 2021 Autocross
DESCRIPTION:
URL:https://vaportrailvettes.org/event/august-14-2021-autocross/
LOCATION:Santa Maria Airport\, 4021 S Blosser Road\,\, Santa Maria\, CA\, 93455\, United States
ORGANIZER;CN="Clay Beck":MAILTO:CRB500@YAHOO.COM
END:VEVENT
BEGIN:VEVENT
DTSTART;TZID=America/Los_Angeles:20210626T063000
DTEND;TZID=America/Los_Angeles:20210626T170000
DTSTAMP:20260425T083231
CREATED:20210202T235107Z
LAST-MODIFIED:20210202T235107Z
UID:19597-1624689000-1624726800@vaportrailvettes.org
SUMMARY:June 26\, 2021 Autocross
DESCRIPTION:
URL:https://vaportrailvettes.org/event/june-26-2021-autocross/
LOCATION:Santa Maria Airport\, 4021 S Blosser Road\,\, Santa Maria\, CA\, 93455\, United States
ORGANIZER;CN="Clay Beck":MAILTO:CRB500@YAHOO.COM
END:VEVENT
BEGIN:VEVENT
DTSTART;TZID=America/Los_Angeles:20210603T183000
DTEND;TZID=America/Los_Angeles:20210603T193000
DTSTAMP:20260425T083231
CREATED:20210507T184944Z
LAST-MODIFIED:20210602T154619Z
UID:19857-1622745000-1622748600@vaportrailvettes.org
SUMMARY:June Meeting
DESCRIPTION:
URL:https://vaportrailvettes.org/event/june-meeting/
LOCATION:IHOP\, 202 Nicholson Ave\, Santa Maria\, CA\, 93455\, United States
ORGANIZER;CN="Clay Beck":MAILTO:CRB500@YAHOO.COM
END:VEVENT
BEGIN:VEVENT
DTSTART;TZID=America/Los_Angeles:20210506T180000
DTEND;TZID=America/Los_Angeles:20210506T193000
DTSTAMP:20260425T083231
CREATED:20210505T173117Z
LAST-MODIFIED:20210505T173117Z
UID:19847-1620324000-1620329400@vaportrailvettes.org
SUMMARY:May Meeting
DESCRIPTION:
URL:https://vaportrailvettes.org/event/may-meeting/
LOCATION:IHOP\, 202 Nicholson Ave\, Santa Maria\, CA\, 93455\, United States
ORGANIZER;CN="Clay Beck":MAILTO:CRB500@YAHOO.COM
END:VEVENT
BEGIN:VEVENT
DTSTART;TZID=America/Los_Angeles:20210417T063000
DTEND;TZID=America/Los_Angeles:20210417T170000
DTSTAMP:20260425T083231
CREATED:20210202T235009Z
LAST-MODIFIED:20210402T181048Z
UID:19594-1618641000-1618678800@vaportrailvettes.org
SUMMARY:April 17\, 2021 Autocross
DESCRIPTION:Stefono’s Sapori D’Italia will be present for those who wish to purchase lunch.  The menu will be: \n#01. Famous Chicago Dog \nMustard\, Relish\, Onions\, Tomato’s\, Kosher Pickle\, and Sport  Peppers on Steamed Poppy Seed Bun. \n$3.95 \n#02. Al Capone Jumbo Dog (Spicy or Mild) \nThicker Dog with mustard\, relish\, onions\, tomato’s\, kosher pickle\, and sport peppers on a steamed poppy seed bun. \n$5.75 \n#03. Maxwell Street Style 12″ Polish \nFoot Long Char-Grilled in the traditional way it was done on historic Maxwell Street Chicago and  prepared with mustard\, Sport Peppers and grilled onions. \n$5.75 \n#04. Mike Ditka Jumbo Spicy Polish \nChar-Grilled in the traditional way it was done on historic Maxwell Street Chicago and prepared with mustard\, Sport Peppers and grilled onions. \n$5.75 \n#05. Cheese Dog \nHot Dog\, Cheese. \n$3.25 \n#06. Chili Cheese Dog \nServed With Onions \n$4.25 \n#07. Jumbo Spicy or Regular Chili Cheese Dog \nServed With Unions \n$5.75 \n#08. Plain Dog \nPlain Hot Dog \n$2.75 \n#09. John Gotti Jumbo Spicy  \nBrown Mustard & Hot Italian Peppers \n$5.75 \n#10. Original Style Polish Dog \nPolish Dog \n$4.75
URL:https://vaportrailvettes.org/event/april-17-2021-autocross/
LOCATION:Santa Maria Airport\, 4021 S Blosser Road\,\, Santa Maria\, CA\, 93455\, United States
ORGANIZER;CN="Clay Beck":MAILTO:CRB500@YAHOO.COM
END:VEVENT
BEGIN:VEVENT
DTSTART;TZID=America/Los_Angeles:20210313T063000
DTEND;TZID=America/Los_Angeles:20210313T170000
DTSTAMP:20260425T083231
CREATED:20210202T234408Z
LAST-MODIFIED:20210202T234857Z
UID:19587-1615617000-1615654800@vaportrailvettes.org
SUMMARY:March 13\, 2021 Autocross
DESCRIPTION:
URL:https://vaportrailvettes.org/event/first-autocross/
LOCATION:Santa Maria Airport\, 4021 S Blosser Road\,\, Santa Maria\, CA\, 93455\, United States
ORGANIZER;CN="Clay Beck":MAILTO:CRB500@YAHOO.COM
END:VEVENT
BEGIN:VEVENT
DTSTART;TZID=America/Los_Angeles:20210304T183000
DTEND;TZID=America/Los_Angeles:20210304T193000
DTSTAMP:20260425T083231
CREATED:20210202T235610Z
LAST-MODIFIED:20210202T235610Z
UID:19606-1614882600-1614886200@vaportrailvettes.org
SUMMARY:March 4 2021 Club Meeting
DESCRIPTION:
URL:https://vaportrailvettes.org/event/march-4-2021-club-meeting/
LOCATION:CA
ORGANIZER;CN="Clay Beck":MAILTO:CRB500@YAHOO.COM
END:VEVENT
END:VCALENDAR