BEGIN:VCALENDAR
VERSION:2.0
PRODID:-//vaportrailvettes.org - ECPv6.15.20//NONSGML v1.0//EN
CALSCALE:GREGORIAN
METHOD:PUBLISH
X-WR-CALNAME:vaportrailvettes.org
X-ORIGINAL-URL:https://vaportrailvettes.org
X-WR-CALDESC:Events for vaportrailvettes.org
REFRESH-INTERVAL;VALUE=DURATION:PT1H
X-Robots-Tag:noindex
X-PUBLISHED-TTL:PT1H
BEGIN:VTIMEZONE
TZID:America/Los_Angeles
BEGIN:DAYLIGHT
TZOFFSETFROM:-0800
TZOFFSETTO:-0700
TZNAME:PDT
DTSTART:20240310T100000
END:DAYLIGHT
BEGIN:STANDARD
TZOFFSETFROM:-0700
TZOFFSETTO:-0800
TZNAME:PST
DTSTART:20241103T090000
END:STANDARD
BEGIN:DAYLIGHT
TZOFFSETFROM:-0800
TZOFFSETTO:-0700
TZNAME:PDT
DTSTART:20250309T100000
END:DAYLIGHT
BEGIN:STANDARD
TZOFFSETFROM:-0700
TZOFFSETTO:-0800
TZNAME:PST
DTSTART:20251102T090000
END:STANDARD
BEGIN:DAYLIGHT
TZOFFSETFROM:-0800
TZOFFSETTO:-0700
TZNAME:PDT
DTSTART:20260308T100000
END:DAYLIGHT
BEGIN:STANDARD
TZOFFSETFROM:-0700
TZOFFSETTO:-0800
TZNAME:PST
DTSTART:20261101T090000
END:STANDARD
BEGIN:DAYLIGHT
TZOFFSETFROM:-0800
TZOFFSETTO:-0700
TZNAME:PDT
DTSTART:20270314T100000
END:DAYLIGHT
BEGIN:STANDARD
TZOFFSETFROM:-0700
TZOFFSETTO:-0800
TZNAME:PST
DTSTART:20271107T090000
END:STANDARD
END:VTIMEZONE
BEGIN:VEVENT
DTSTART;TZID=America/Los_Angeles:20250807T173000
DTEND;TZID=America/Los_Angeles:20250807T193000
DTSTAMP:20260424T051524
CREATED:20250623T165708Z
LAST-MODIFIED:20250623T165708Z
UID:23716-1754587800-1754595000@vaportrailvettes.org
SUMMARY:August Meeting
DESCRIPTION:
URL:https://vaportrailvettes.org/event/august-meeting/
LOCATION:IHOP\, 202 Nicholson Ave\, Santa Maria\, CA\, 93455\, United States
ORGANIZER;CN="Clay Beck":MAILTO:CRB500@YAHOO.COM
END:VEVENT
BEGIN:VEVENT
DTSTART;TZID=America/Los_Angeles:20250816T063000
DTEND;TZID=America/Los_Angeles:20250816T170000
DTSTAMP:20260424T051524
CREATED:20241221T170249Z
LAST-MODIFIED:20241221T170549Z
UID:23371-1755325800-1755363600@vaportrailvettes.org
SUMMARY:August 16\, 2025 Autocross
DESCRIPTION:
URL:https://vaportrailvettes.org/event/august-16th-2025-autocross/
LOCATION:Santa Maria Airport\, 4021 S Blosser Road\,\, Santa Maria\, CA\, 93455\, United States
ORGANIZER;CN="Clay Beck":MAILTO:CRB500@YAHOO.COM
END:VEVENT
BEGIN:VEVENT
DTSTART;TZID=America/Los_Angeles:20250904T173000
DTEND;TZID=America/Los_Angeles:20250904T193000
DTSTAMP:20260424T051524
CREATED:20250623T165837Z
LAST-MODIFIED:20250623T165837Z
UID:23720-1757007000-1757014200@vaportrailvettes.org
SUMMARY:September Meeting
DESCRIPTION:
URL:https://vaportrailvettes.org/event/september-meeting/
LOCATION:IHOP\, 202 Nicholson Ave\, Santa Maria\, CA\, 93455\, United States
ORGANIZER;CN="Clay Beck":MAILTO:CRB500@YAHOO.COM
END:VEVENT
BEGIN:VEVENT
DTSTART;TZID=America/Los_Angeles:20250920T063000
DTEND;TZID=America/Los_Angeles:20250920T170000
DTSTAMP:20260424T051524
CREATED:20241221T170343Z
LAST-MODIFIED:20241221T170343Z
UID:23374-1758349800-1758387600@vaportrailvettes.org
SUMMARY:September 20\, 2025 Autocross
DESCRIPTION:
URL:https://vaportrailvettes.org/event/september-20-2025-autocross/
LOCATION:Santa Maria Airport\, 4021 S Blosser Road\,\, Santa Maria\, CA\, 93455\, United States
ORGANIZER;CN="Clay Beck":MAILTO:CRB500@YAHOO.COM
END:VEVENT
BEGIN:VEVENT
DTSTART;TZID=America/Los_Angeles:20250927T110000
DTEND;TZID=America/Los_Angeles:20250927T143000
DTSTAMP:20260424T051524
CREATED:20250905T183821Z
LAST-MODIFIED:20250905T183821Z
UID:23874-1758970800-1758983400@vaportrailvettes.org
SUMMARY:September Drive and Dine
DESCRIPTION:Meet at the outlets in Pismo Beach.
URL:https://vaportrailvettes.org/event/september-drive-and-dine-2/
LOCATION:Pismao Beach Outlets\, 333 5 Cities Dr\, Pismo Beach\, CA\, 93449\, United States
ORGANIZER;CN="Clay Beck":MAILTO:CRB500@YAHOO.COM
END:VEVENT
BEGIN:VEVENT
DTSTART;TZID=America/Los_Angeles:20251002T173000
DTEND;TZID=America/Los_Angeles:20251002T200000
DTSTAMP:20260424T051524
CREATED:20250623T165924Z
LAST-MODIFIED:20250623T165924Z
UID:23723-1759426200-1759435200@vaportrailvettes.org
SUMMARY:October Meeting
DESCRIPTION:
URL:https://vaportrailvettes.org/event/october-meeting/
LOCATION:IHOP\, 202 Nicholson Ave\, Santa Maria\, CA\, 93455\, United States
ORGANIZER;CN="Clay Beck":MAILTO:CRB500@YAHOO.COM
END:VEVENT
BEGIN:VEVENT
DTSTART;TZID=America/Los_Angeles:20251025T110000
DTEND;TZID=America/Los_Angeles:20251025T150000
DTSTAMP:20260424T051524
CREATED:20251008T150951Z
LAST-MODIFIED:20251008T151004Z
UID:23995-1761390000-1761404400@vaportrailvettes.org
SUMMARY:October Drive & Dine
DESCRIPTION:Meet at the outlets at Pismo Beach at 11:00 for a run to Cayucos for lunch and then on up to San Simeon.
URL:https://vaportrailvettes.org/event/october-drive-dine/
LOCATION:The Outlets at Pismo Beach\, 333 S Cities Drive\, Pismo Beach\, CA\, 93449\, United States
ORGANIZER;CN="Clay Beck":MAILTO:CRB500@YAHOO.COM
END:VEVENT
BEGIN:VEVENT
DTSTART;TZID=America/Los_Angeles:20251102T090000
DTEND;TZID=America/Los_Angeles:20251102T153000
DTSTAMP:20260424T051524
CREATED:20251028T211410Z
LAST-MODIFIED:20251028T211410Z
UID:24008-1762074000-1762097400@vaportrailvettes.org
SUMMARY:Nov 2\, 2025 Drive and Dine
DESCRIPTION:Meet at the Chevron at Santa Maria Way and Bradley at 9 am.
URL:https://vaportrailvettes.org/event/nov-2-2025-drive-and-dine/
LOCATION:CA
ORGANIZER;CN="Clay Beck":MAILTO:CRB500@YAHOO.COM
END:VEVENT
BEGIN:VEVENT
DTSTART;TZID=America/Los_Angeles:20251106T173000
DTEND;TZID=America/Los_Angeles:20251106T193000
DTSTAMP:20260424T051524
CREATED:20250623T170007Z
LAST-MODIFIED:20250623T170007Z
UID:23726-1762450200-1762457400@vaportrailvettes.org
SUMMARY:November Meeting
DESCRIPTION:
URL:https://vaportrailvettes.org/event/november-meeting/
LOCATION:IHOP\, 202 Nicholson Ave\, Santa Maria\, CA\, 93455\, United States
ORGANIZER;CN="Clay Beck":MAILTO:CRB500@YAHOO.COM
END:VEVENT
BEGIN:VEVENT
DTSTART;TZID=America/Los_Angeles:20251210T183000
DTEND;TZID=America/Los_Angeles:20251210T203000
DTSTAMP:20260424T051524
CREATED:20251119T235456Z
LAST-MODIFIED:20251119T235456Z
UID:24093-1765391400-1765398600@vaportrailvettes.org
SUMMARY:2025 Holiday Party
DESCRIPTION:
URL:https://vaportrailvettes.org/event/2025-holiday-party/
LOCATION:Happy Bistro\, 821 N Oak Park Blvd\, Pismo Beach\, CA\, 93449\, United States
END:VEVENT
BEGIN:VEVENT
DTSTART;TZID=America/Los_Angeles:20251218T130000
DTEND;TZID=America/Los_Angeles:20251218T150000
DTSTAMP:20260424T051524
CREATED:20251119T174040Z
LAST-MODIFIED:20251119T174040Z
UID:24084-1766062800-1766070000@vaportrailvettes.org
SUMMARY:Boys & Girls Club Gift Giving
DESCRIPTION:
URL:https://vaportrailvettes.org/event/boys-girls-club-gift-giving/
LOCATION:CA
END:VEVENT
BEGIN:VEVENT
DTSTART;TZID=America/Los_Angeles:20260205T183000
DTEND;TZID=America/Los_Angeles:20260205T193000
DTSTAMP:20260424T051524
CREATED:20251220T183922Z
LAST-MODIFIED:20251220T183922Z
UID:24151-1770316200-1770319800@vaportrailvettes.org
SUMMARY:February Monthly Meeting
DESCRIPTION:
URL:https://vaportrailvettes.org/event/february-monthly-meeting/
LOCATION:IHOP\, 202 Nicholson Ave\, Santa Maria\, CA\, 93455\, United States
ORGANIZER;CN="Clay Beck":MAILTO:CRB500@YAHOO.COM
END:VEVENT
BEGIN:VEVENT
DTSTART;TZID=America/Los_Angeles:20260225T100000
DTEND;TZID=America/Los_Angeles:20260225T170000
DTSTAMP:20260424T051524
CREATED:20260206T222551Z
LAST-MODIFIED:20260206T222906Z
UID:24235-1772013600-1772038800@vaportrailvettes.org
SUMMARY:Garage Day at Clay's
DESCRIPTION:
URL:https://vaportrailvettes.org/event/garage-day/
LOCATION:Garage Day at Clay’s\, 1386 Hetrick Ave\, Arroyo Grande\, CA\, 93420\, United States
ORGANIZER;CN="Clay Beck":MAILTO:CRB500@YAHOO.COM
END:VEVENT
BEGIN:VEVENT
DTSTART;TZID=America/Los_Angeles:20260305T173000
DTEND;TZID=America/Los_Angeles:20260305T193000
DTSTAMP:20260424T051524
CREATED:20251220T184932Z
LAST-MODIFIED:20251220T184932Z
UID:24173-1772731800-1772739000@vaportrailvettes.org
SUMMARY:March\, 2026 Monthly Meeting
DESCRIPTION:
URL:https://vaportrailvettes.org/event/march-2026-monthly-meeting/
LOCATION:IHOP\, 202 Nicholson Ave\, Santa Maria\, CA\, 93455\, United States
ORGANIZER;CN="Clay Beck":MAILTO:CRB500@YAHOO.COM
END:VEVENT
BEGIN:VEVENT
DTSTART;TZID=America/Los_Angeles:20260307T080000
DTEND;TZID=America/Los_Angeles:20260307T170000
DTSTAMP:20260424T051524
CREATED:20260206T223323Z
LAST-MODIFIED:20260206T223323Z
UID:24249-1772870400-1772902800@vaportrailvettes.org
SUMMARY:March Meet drags at Bakersfield
DESCRIPTION:
URL:https://vaportrailvettes.org/event/march-meet-drags-at-bakersfield/
LOCATION:March Meet\, 33559 Famoso Rd.\, McFarland\, CA\, 93250\, United States
ORGANIZER;CN="Clay Beck":MAILTO:CRB500@YAHOO.COM
END:VEVENT
BEGIN:VEVENT
DTSTART;TZID=America/Los_Angeles:20260321T100000
DTEND;TZID=America/Los_Angeles:20260321T170000
DTSTAMP:20260424T051524
CREATED:20260206T223656Z
LAST-MODIFIED:20260206T223656Z
UID:24254-1774087200-1774112400@vaportrailvettes.org
SUMMARY:March 21st Drive and Dine
DESCRIPTION:
URL:https://vaportrailvettes.org/event/march-21st-drive-and-dine/
LOCATION:Charlies\, 185 Bell St.\, Los Alamos\, CA\, 93440
END:VEVENT
BEGIN:VEVENT
DTSTART;TZID=America/Los_Angeles:20260402T173000
DTEND;TZID=America/Los_Angeles:20260402T193000
DTSTAMP:20260424T051524
CREATED:20260306T203631Z
LAST-MODIFIED:20260306T203631Z
UID:24323-1775151000-1775158200@vaportrailvettes.org
SUMMARY:April Meeting
DESCRIPTION:
URL:https://vaportrailvettes.org/event/april-meeting/
LOCATION:IHOP\, 202 Nicholson Ave\, Santa Maria\, CA\, 93455\, United States
ORGANIZER;CN="Clay Beck":MAILTO:CRB500@YAHOO.COM
END:VEVENT
BEGIN:VEVENT
DTSTART;TZID=America/Los_Angeles:20260411T100000
DTEND;TZID=America/Los_Angeles:20260411T170000
DTSTAMP:20260424T051524
CREATED:20260206T224142Z
LAST-MODIFIED:20260206T224142Z
UID:24263-1775901600-1775926800@vaportrailvettes.org
SUMMARY:April 11th Drive and Dine
DESCRIPTION:
URL:https://vaportrailvettes.org/event/april-11th-drive-and-dine/
LOCATION:Estrella Warbird Museum\, 4251 Dry Creek Road\, Paseo Robles\, CA\, 93446\, United States
ORGANIZER;CN="Clay Beck":MAILTO:CRB500@YAHOO.COM
END:VEVENT
BEGIN:VEVENT
DTSTART;TZID=America/Los_Angeles:20260507T173000
DTEND;TZID=America/Los_Angeles:20260507T193000
DTSTAMP:20260424T051524
CREATED:20260306T203845Z
LAST-MODIFIED:20260306T203845Z
UID:24326-1778175000-1778182200@vaportrailvettes.org
SUMMARY:May Meeting
DESCRIPTION:
URL:https://vaportrailvettes.org/event/may-meeting-2/
LOCATION:IHOP\, 202 Nicholson Ave\, Santa Maria\, CA\, 93455\, United States
ORGANIZER;CN="Clay Beck":MAILTO:CRB500@YAHOO.COM
END:VEVENT
BEGIN:VEVENT
DTSTART;TZID=America/Los_Angeles:20260509T100000
DTEND;TZID=America/Los_Angeles:20260509T170000
DTSTAMP:20260424T051524
CREATED:20260206T224315Z
LAST-MODIFIED:20260206T224315Z
UID:24267-1778320800-1778346000@vaportrailvettes.org
SUMMARY:May 9th Drive and Dine
DESCRIPTION:
URL:https://vaportrailvettes.org/event/may-9th-drive-and-dine/
LOCATION:CA
ORGANIZER;CN="Clay Beck":MAILTO:CRB500@YAHOO.COM
END:VEVENT
BEGIN:VEVENT
DTSTART;TZID=America/Los_Angeles:20260530T063000
DTEND;TZID=America/Los_Angeles:20260530T170000
DTSTAMP:20260424T051524
CREATED:20251220T184104Z
LAST-MODIFIED:20251220T184104Z
UID:24154-1780122600-1780160400@vaportrailvettes.org
SUMMARY:May 30th\, 2026 Autocross
DESCRIPTION:
URL:https://vaportrailvettes.org/event/may-30th-2026-autocross/
LOCATION:Santa Maria Airport\, 4021 S Blosser Road\,\, Santa Maria\, CA\, 93455\, United States
ORGANIZER;CN="Clay Beck":MAILTO:CRB500@YAHOO.COM
END:VEVENT
BEGIN:VEVENT
DTSTART;TZID=America/Los_Angeles:20260604T173000
DTEND;TZID=America/Los_Angeles:20260604T193000
DTSTAMP:20260424T051524
CREATED:20260306T203932Z
LAST-MODIFIED:20260306T203932Z
UID:24329-1780594200-1780601400@vaportrailvettes.org
SUMMARY:June Meeting
DESCRIPTION:
URL:https://vaportrailvettes.org/event/june-meeting-3/
LOCATION:IHOP\, 202 Nicholson Ave\, Santa Maria\, CA\, 93455\, United States
ORGANIZER;CN="Clay Beck":MAILTO:CRB500@YAHOO.COM
END:VEVENT
BEGIN:VEVENT
DTSTART;TZID=America/Los_Angeles:20260711T063000
DTEND;TZID=America/Los_Angeles:20260711T170000
DTSTAMP:20260424T051524
CREATED:20251220T184208Z
LAST-MODIFIED:20260204T230924Z
UID:24157-1783751400-1783789200@vaportrailvettes.org
SUMMARY:July 11\, 2026 Autocross
DESCRIPTION:
URL:https://vaportrailvettes.org/event/june-27-2026-autocross/
LOCATION:Santa Maria Airport\, 4021 S Blosser Road\,\, Santa Maria\, CA\, 93455\, United States
ORGANIZER;CN="Clay Beck":MAILTO:CRB500@YAHOO.COM
END:VEVENT
BEGIN:VEVENT
DTSTART;TZID=America/Los_Angeles:20260801T080000
DTEND;TZID=America/Los_Angeles:20260801T170000
DTSTAMP:20260424T051524
CREATED:20251220T184743Z
LAST-MODIFIED:20251220T184743Z
UID:24169-1785571200-1785603600@vaportrailvettes.org
SUMMARY:August 1\, 2026 Autocross
DESCRIPTION:
URL:https://vaportrailvettes.org/event/august-1-2026-autocross/
LOCATION:Santa Maria Airport\, 4021 S Blosser Road\,\, Santa Maria\, CA\, 93455\, United States
ORGANIZER;CN="Clay Beck":MAILTO:CRB500@YAHOO.COM
END:VEVENT
BEGIN:VEVENT
DTSTART;TZID=America/Los_Angeles:20260806T173000
DTEND;TZID=America/Los_Angeles:20260806T193000
DTSTAMP:20260424T051524
CREATED:20260306T204040Z
LAST-MODIFIED:20260306T204145Z
UID:24332-1786037400-1786044600@vaportrailvettes.org
SUMMARY:August Meeting
DESCRIPTION:
URL:https://vaportrailvettes.org/event/auguat-meeting/
LOCATION:IHOP\, 202 Nicholson Ave\, Santa Maria\, CA\, 93455\, United States
ORGANIZER;CN="Clay Beck":MAILTO:CRB500@YAHOO.COM
END:VEVENT
BEGIN:VEVENT
DTSTART;TZID=America/Los_Angeles:20260926T063000
DTEND;TZID=America/Los_Angeles:20260926T170000
DTSTAMP:20260424T051524
CREATED:20251220T184344Z
LAST-MODIFIED:20260206T224434Z
UID:24160-1790404200-1790442000@vaportrailvettes.org
SUMMARY:September 26\, 2026 Autocross
DESCRIPTION:
URL:https://vaportrailvettes.org/event/september-12-2026-autocross/
LOCATION:Santa Maria Airport\, 4021 S Blosser Road\,\, Santa Maria\, CA\, 93455\, United States
ORGANIZER;CN="Clay Beck":MAILTO:CRB500@YAHOO.COM
END:VEVENT
BEGIN:VEVENT
DTSTART;TZID=America/Los_Angeles:20261017T063000
DTEND;TZID=America/Los_Angeles:20261017T063000
DTSTAMP:20260424T051524
CREATED:20251220T184506Z
LAST-MODIFIED:20251220T184611Z
UID:24163-1792218600-1792218600@vaportrailvettes.org
SUMMARY:Backup date - October 17\, 2026 Autocross
DESCRIPTION:
URL:https://vaportrailvettes.org/event/october-17-2026-autocross/
LOCATION:Santa Maria Airport\, 4021 S Blosser Road\,\, Santa Maria\, CA\, 93455\, United States
ORGANIZER;CN="Clay Beck":MAILTO:CRB500@YAHOO.COM
END:VEVENT
END:VCALENDAR