BEGIN:VCALENDAR
VERSION:2.0
PRODID:-//vaportrailvettes.org - ECPv6.15.20//NONSGML v1.0//EN
CALSCALE:GREGORIAN
METHOD:PUBLISH
X-ORIGINAL-URL:https://vaportrailvettes.org
X-WR-CALDESC:Events for vaportrailvettes.org
REFRESH-INTERVAL;VALUE=DURATION:PT1H
X-Robots-Tag:noindex
X-PUBLISHED-TTL:PT1H
BEGIN:VTIMEZONE
TZID:America/Los_Angeles
BEGIN:DAYLIGHT
TZOFFSETFROM:-0800
TZOFFSETTO:-0700
TZNAME:PDT
DTSTART:20250309T100000
END:DAYLIGHT
BEGIN:STANDARD
TZOFFSETFROM:-0700
TZOFFSETTO:-0800
TZNAME:PST
DTSTART:20251102T090000
END:STANDARD
BEGIN:DAYLIGHT
TZOFFSETFROM:-0800
TZOFFSETTO:-0700
TZNAME:PDT
DTSTART:20260308T100000
END:DAYLIGHT
BEGIN:STANDARD
TZOFFSETFROM:-0700
TZOFFSETTO:-0800
TZNAME:PST
DTSTART:20261101T090000
END:STANDARD
BEGIN:DAYLIGHT
TZOFFSETFROM:-0800
TZOFFSETTO:-0700
TZNAME:PDT
DTSTART:20270314T100000
END:DAYLIGHT
BEGIN:STANDARD
TZOFFSETFROM:-0700
TZOFFSETTO:-0800
TZNAME:PST
DTSTART:20271107T090000
END:STANDARD
END:VTIMEZONE
BEGIN:VEVENT
DTSTART;TZID=America/Los_Angeles:20260411T100000
DTEND;TZID=America/Los_Angeles:20260411T170000
DTSTAMP:20260423T142420
CREATED:20260206T224142Z
LAST-MODIFIED:20260206T224142Z
UID:24263-1775901600-1775926800@vaportrailvettes.org
SUMMARY:April 11th Drive and Dine
DESCRIPTION:
URL:https://vaportrailvettes.org/event/april-11th-drive-and-dine/
LOCATION:Estrella Warbird Museum\, 4251 Dry Creek Road\, Paseo Robles\, CA\, 93446\, United States
ORGANIZER;CN="Clay Beck":MAILTO:CRB500@YAHOO.COM
END:VEVENT
END:VCALENDAR